BEGIN:VCALENDAR
VERSION:2.0
PRODID:-//Katherine Krige - ECPv6.15.20//NONSGML v1.0//EN
CALSCALE:GREGORIAN
METHOD:PUBLISH
X-ORIGINAL-URL:https://katherinekrige.com
X-WR-CALDESC:Events for Katherine Krige
REFRESH-INTERVAL;VALUE=DURATION:PT1H
X-Robots-Tag:noindex
X-PUBLISHED-TTL:PT1H
BEGIN:VTIMEZONE
TZID:America/Toronto
BEGIN:DAYLIGHT
TZOFFSETFROM:-0500
TZOFFSETTO:-0400
TZNAME:EDT
DTSTART:20230312T070000
END:DAYLIGHT
BEGIN:STANDARD
TZOFFSETFROM:-0400
TZOFFSETTO:-0500
TZNAME:EST
DTSTART:20231105T060000
END:STANDARD
BEGIN:DAYLIGHT
TZOFFSETFROM:-0500
TZOFFSETTO:-0400
TZNAME:EDT
DTSTART:20240310T070000
END:DAYLIGHT
BEGIN:STANDARD
TZOFFSETFROM:-0400
TZOFFSETTO:-0500
TZNAME:EST
DTSTART:20241103T060000
END:STANDARD
BEGIN:DAYLIGHT
TZOFFSETFROM:-0500
TZOFFSETTO:-0400
TZNAME:EDT
DTSTART:20250309T070000
END:DAYLIGHT
BEGIN:STANDARD
TZOFFSETFROM:-0400
TZOFFSETTO:-0500
TZNAME:EST
DTSTART:20251102T060000
END:STANDARD
END:VTIMEZONE
BEGIN:VEVENT
DTSTART;TZID=America/Toronto:20241027T133000
DTEND;TZID=America/Toronto:20241027T153000
DTSTAMP:20260420T183203
CREATED:20240913T142916Z
LAST-MODIFIED:20241022T150239Z
UID:4607-1730035800-1730043000@katherinekrige.com
SUMMARY:Salon of the Refused: A Celebration of Refused Writing
DESCRIPTION:Writers require a thick skin. For every word written\, thought brilliant and shared\, there are so many more that are rejected. Refused for publication. It is the nature of attempting to become a published writer; that we must first collect our lumps with refused writing. Not everyone appreciates our brilliance\, or at least not at first glance. \nEnter the Salon of the Refused… \n \nSalon of the Refused\nThe Salon of the Refused is inspired by the French Salon des Refusés of 1863. It was an Exhibition\, put on and sanctioned by Napoléon\, featuring rejected works from the Official Jury of the Paris Salon. As you might imagine\, it created quite a stir at the time\, especially as it displayed works by notable artists\, including Édouard Manet\, Johan Jongkind\, Gustave Courbet\, James Abbott McNeill Whistler\, and many more. But how does that translate to today’s reinterpretation? It too features the rejected. \nIt is a celebration of writing that was initially rejected. It is also a celebration of marginalized communities who often feel rejected by mainstream society. \n~ The Salon of the Refused \nRefused writing: That is what we are talking about. What better way to present it than by having the actual authors read from rejected works. \nSometimes work is initially rejected for a variety of reasons. Maybe it is not the right fit for a certain publisher. Perhaps the subject matter holds unpopular views. It could be that more work needs to be done to the piece before it is ready to be accepted. There are as many reasons for writing to hit the slough pile\, as books that line library and bookstore shelves. But the driving force behind the Salon of the Refused event\, is to spotlight that writing—to give it another shot to see if maybe it is not so bad. \nAnd I get to share some of my words there too. \nCome out to hear myself and other local London writers read from works that initially got passed over. You just might find your new favourite author!
URL:https://katherinekrige.com/event/salon-of-the-refused-a-celebration-of-refused-writing/
LOCATION:Museum of Ontario Archaeology\, 1600 Attawandaron Rd\, London\, Ontario\, N6G 3M6\, Canada
CATEGORIES:Author Reading
ATTACH;FMTTYPE=image/webp:https://katherinekrige.com/wp-content/uploads/2024/09/refuses2.webp
END:VEVENT
BEGIN:VEVENT
DTSTART;TZID=America/Toronto:20241026T103000
DTEND;TZID=America/Toronto:20241026T130000
DTSTAMP:20260420T183203
CREATED:20240816T160758Z
LAST-MODIFIED:20240816T162242Z
UID:4571-1729938600-1729947600@katherinekrige.com
SUMMARY:Another Author Reading at Lake House Books
DESCRIPTION:Lake House Books is such a fantastic independent bookstore that it is always worth returning for another visit. This time\, I plan to bring Daisy Mae Hamelinck with me for a special author reading event. Drum roll please! \nRachael is opening their doors to us on October 26\, 2024 at 10:30am for an author reading at Lake House Books. \nMake sure to head to Port as this will be a special event; Daisy will be reading from her great children’s book Different is Good. She is such an engaging reader\, so make sure to bring the kids along! I will be on hand as well and we’ll both be available to chat about our books once story time is done. Come see us in the hallway after. \nPick up signed copies of our books\, ask questions\, share your own stories\, and connect. We love meeting new people and connecting with all! Don’t forget to browse the rest of Lake House Books to discover games\, puzzles\, journals\, jewellery\, and plenty of other cool Port Stanley merch (Rachael has so many Tees!). You’ll find the bookstore inside Port Stanley Festival Theatre. \nSee you on October 26!
URL:https://katherinekrige.com/event/another-author-reading-at-lake-house-books/
LOCATION:Lake House Books\, 1-302 Bridge St\, Port Stanley\, Ontario\, N5L 1C3\, Canada
CATEGORIES:Author Reading,Book Tour
ATTACH;FMTTYPE=image/jpeg:https://katherinekrige.com/wp-content/uploads/2024/08/20240202_154342-scaled.jpg
END:VEVENT
BEGIN:VEVENT
DTSTART;TZID=America/Toronto:20240323T110000
DTEND;TZID=America/Toronto:20240323T123000
DTSTAMP:20260420T183203
CREATED:20240215T154537Z
LAST-MODIFIED:20240320T205057Z
UID:4244-1711191600-1711197000@katherinekrige.com
SUMMARY:Author Reading at Lake House Books
DESCRIPTION:Are you ready for an author reading at an indie bookstore? I cannot wait to visit Lake House Books this March! \nAuthor Reading at Lake House Books\n \nI was introduced to the owner of Lake House Books this past January and Rachael quickly agreed to carry copies of both of my memoirs in her new store. Lake House Books is one of the newer businesses to open in Port Stanley and a welcome addition to this beachside town. If you haven’t been yet\, now is the perfect time to check it out. \n“Katherine Krige will join us to discuss her two memoirs. Roughing it in Africa is a story about Katherine’s journey through Africa\, while Riding the Waves is a story of love\, loss and grief. With a focus on journeying\, Katherine will talk about her books\, answer your questions\, and sign your books! Please join us at 11 am here at Lake House Books on March 23. We are located at 302 Bridge St. inside the festival theatre building.” \n**NOTE: Please RSVP to lakehousebooks1@gmail.com**
URL:https://katherinekrige.com/event/author-reading-at-lake-house-books/
LOCATION:Lake House Books\, 1-302 Bridge St\, Port Stanley\, Ontario\, N5L 1C3\, Canada
CATEGORIES:Author Reading,Book Signing
ATTACH;FMTTYPE=image/jpeg:https://katherinekrige.com/wp-content/uploads/2024/02/20240202_154356-scaled-e1708010928184.jpg
ORGANIZER;CN="Lake House Books":MAILTO:lakehousebooks1@gmail.com
END:VEVENT
END:VCALENDAR